BEGIN:VCALENDAR
VERSION:2.0
PRODID:-//Les tutos couture de Dodynette - ECPv6.2.3.1//NONSGML v1.0//EN
CALSCALE:GREGORIAN
METHOD:PUBLISH
X-WR-CALNAME:Les tutos couture de Dodynette
X-ORIGINAL-URL:https://blog.dodynette.com
X-WR-CALDESC:évènements pour Les tutos couture de Dodynette
REFRESH-INTERVAL;VALUE=DURATION:PT1H
X-Robots-Tag:noindex
X-PUBLISHED-TTL:PT1H
BEGIN:VTIMEZONE
TZID:Europe/Paris
BEGIN:DAYLIGHT
TZOFFSETFROM:+0100
TZOFFSETTO:+0200
TZNAME:CEST
DTSTART:20230326T010000
END:DAYLIGHT
BEGIN:STANDARD
TZOFFSETFROM:+0200
TZOFFSETTO:+0100
TZNAME:CET
DTSTART:20231029T010000
END:STANDARD
END:VTIMEZONE
BEGIN:VEVENT
DTSTART;TZID=Europe/Paris:20230608T183000
DTEND;TZID=Europe/Paris:20230613T000000
DTSTAMP:20260422T010634
CREATED:20230525T075532Z
LAST-MODIFIED:20230525T075753Z
UID:26702-1686249000-1686614400@blog.dodynette.com
SUMMARY:Live couture : Besace Lou
DESCRIPTION:Du 8 au 13 juin\, Dodynette vous donne rendez-vous pour 6 jours de live couture Besace Lou ! Le principe du live est de coudre votre sac Besace en vous laissant guider par les explications du direct. \nLes étapes de montage ont été totalement réécrites \, une nouvelle taille a fait son apparition et un pack de variation additionnel a été créé pour vous permettre d’ajouter de nombreuses options au patron de base. Le live sera l’occasion de fêter cette mise à jour du patron en passant un moment convivial toutes ensembles sous notre machine ! \n  \nRendez-vous tous les soirs de 18h30 à 20h pour coudre ensemble. \nLe programme des lives : \n\nJeudi 8 juin à 18h30: Récapitulatif des découpe et préparation de la sangle et des passants\nVendredi 9 juin: Création de la poche intérieure\, de la poche avant et du rabat\nSamedi 10 juin : Préparation de la pièce zippée de haut de besace\nDimanche 11 juin : Création de la poche de dos de sac\nLundi 12 juin: Montage de la partie doublure\nMardi 13 juin: Montage de la partie extérieure et assemblage final\n\nLe programme est indicatif et pourra être modifié en fonction de l’avancement du projet. \nAvant le premier live\, vous devez avoir fait les découpes de vos tissus\, préparé votre matériel et votre fil (+ canette). \n  \nUn replay de chaque session sera disponible sans délais dans le temps. \nPour en savoir plus sur le live couture\, rendez-vous par ICI.
URL:https://blog.dodynette.com/event/live-couture-besace-lou/
CATEGORIES:Live
ATTACH;FMTTYPE=image/jpeg:https://blog.dodynette.com/wp-content/uploads/2022/11/ANNIVERSAIRE-DODYNETTE-1366-×-768-px-1600-×-1600-px-Publication-Facebook-Paysage-1200-×-788-px-Publication-Instagram-Carre.jpg
ORGANIZER;CN="Dodynette":MAILTO:elodie@dodynette.com
END:VEVENT
END:VCALENDAR