BEGIN:VCALENDAR
VERSION:2.0
PRODID:-//Les tutos couture de Dodynette - ECPv6.2.3.1//NONSGML v1.0//EN
CALSCALE:GREGORIAN
METHOD:PUBLISH
X-WR-CALNAME:Les tutos couture de Dodynette
X-ORIGINAL-URL:https://blog.dodynette.com
X-WR-CALDESC:évènements pour Les tutos couture de Dodynette
REFRESH-INTERVAL;VALUE=DURATION:PT1H
X-Robots-Tag:noindex
X-PUBLISHED-TTL:PT1H
BEGIN:VTIMEZONE
TZID:Europe/Paris
BEGIN:DAYLIGHT
TZOFFSETFROM:+0100
TZOFFSETTO:+0200
TZNAME:CEST
DTSTART:20240331T010000
END:DAYLIGHT
BEGIN:STANDARD
TZOFFSETFROM:+0200
TZOFFSETTO:+0100
TZNAME:CET
DTSTART:20241027T010000
END:STANDARD
END:VTIMEZONE
BEGIN:VEVENT
DTSTART;VALUE=DATE:20240804
DTEND;VALUE=DATE:20240805
DTSTAMP:20260420T224108
CREATED:20240605T065621Z
LAST-MODIFIED:20240605T065911Z
UID:27313-1722729600-1722815999@blog.dodynette.com
SUMMARY:Challenge couture trousse/vanity Ebben du 4 juin au 4 août 2024
DESCRIPTION:✨LANCEMENT DU CHALLENGE COUTURE ✨\n\n\n\nEs-tu prêt(e) à relever le défi ?\n\n\n\n \n\n\n➡️ Le principe du challenge : Coudre la trousse/Vanity Ebben(dans la taille de ton choix) avec au moins une option du pack additionnel !\n\n\n \n\n\nTu as deux mois pour créer un modèle unique (du 4 juin au 4 août) dans les tissus de ton choix 😊 \n\n\nToutes les informations sur le challenge sont ICI\n\n\n\n\n\n\nLES CADEAUX\n\n\n\nJe met en jeu de 3 beaux cadeaux « Dodynette » et il y aura 5 gagnants 😍\n\n\n \n\n\n🎁 La création coup de cœur de l’équipe Dodynette remportera une place de testeuse + les fournitures pour le prochain patron\n\n\n \n\n\n🎈 Le modèle préféré des cousettes se verra offrir un chèque cadeau de 100€ à dépenser sur ma boutique !\n\n\n \n\n\n🎀 3 créations tirées au sort parmi tous les modèles (tout le monde à sa chance) gagneront un chèque cadeau de 25€ chacune (à dépenser sur le site). \n\n\n \n\n\n\n\n\n\n\nPARTICIPER AU CHALLENGE\n\n\n\n\n\n\n⭐️Pour participer au challenge 3 étapes à suivre sur blog.dodynette.com\n\n\n \n\n\n➡️ Inscris toi au challenge en cliquant ICI\n\n\n \n\n\n🧵 Couds ton projet à partir du patron « Trousse/Vanity Ebben de Dodynette » (attention tu as besoin du patron de base + du pack additionnel)\n\n\n \n\n\n📷Postes une photo de ta réalisation dans l’album du challenge sur le groupe Facebook « Les Cousettes -Dodynette Addict »et/ou sur ta page Instagram avec le #challengetrousseebben et en taguant mon compte @api_dodynette pour que je puisse admirer ta création \n\n\nToutes les informations sur le challenge sont ICI\n\n\n\n\n\n\n\nJ’espère que ce nouveau #challengecouture va vous inspirer ! 🥰\n\n\nJ’ai hâte de voir vos œuvres 🤩\n\n\n \n\n\nBonne couture à toutes (et tous !)
URL:https://blog.dodynette.com/event/challenge-couture-trousse-vanity-ebben-du-4-juin-au-4-aout-2024/
CATEGORIES:challenge couture
ATTACH;FMTTYPE=image/png:https://blog.dodynette.com/wp-content/uploads/2024/06/challenge-couture-trousse-ebben-dodynette-4.png
END:VEVENT
END:VCALENDAR