BEGIN:VCALENDAR
VERSION:2.0
PRODID:-//Les tutos couture de Dodynette - ECPv6.2.3.1//NONSGML v1.0//EN
CALSCALE:GREGORIAN
METHOD:PUBLISH
X-WR-CALNAME:Les tutos couture de Dodynette
X-ORIGINAL-URL:https://blog.dodynette.com
X-WR-CALDESC:évènements pour Les tutos couture de Dodynette
REFRESH-INTERVAL;VALUE=DURATION:PT1H
X-Robots-Tag:noindex
X-PUBLISHED-TTL:PT1H
BEGIN:VTIMEZONE
TZID:UTC
BEGIN:STANDARD
TZOFFSETFROM:+0000
TZOFFSETTO:+0000
TZNAME:UTC
DTSTART:20230101T000000
END:STANDARD
END:VTIMEZONE
BEGIN:VEVENT
DTSTART;VALUE=DATE:20231027
DTEND;VALUE=DATE:20231030
DTSTAMP:20260421T191315
CREATED:20200525T044819Z
LAST-MODIFIED:20230909T080554Z
UID:19692-1698364800-1698623999@blog.dodynette.com
SUMMARY:Le salon Mille et une idées de Besançon du 27 au 29 octobre 2023
DESCRIPTION:Un salon des loisirs créatifs et du fil à Besançon dédié à la création\, pour les passionnés du « fait main » !\nLe salon des loisirs créatifs et du fil de Besançon c’est : 3 jours pour faire le plein de matériel\, de conseils\, d’inspirations et découvrir les dernières nouveautés : perles\, couture\, patchwork\, encadrement\, broderie\, carterie\, modelage\, relooking de meubles\, outillage\, scrapbooking\, tricot\, cuisine créative\, décoration\, mercerie\, tissage\, fournitures pour les activités des enfants\, fabrication de cosmétiques\, livres…etc ! Et profiter de cet instant pour échanger avec les créateurs autour d’une passion commune…. \n  \nDodynette sera présente sur le salon pour vous rencontrer et discuter jolies cousettes ! \nRetrouvez-là sur le salon pendant les 3 jours sur le stand DODYNETTE \nAvec de nombreuses propositions créatives : ateliers couture – vente de kits couture \n  \nRetrouvez toutes les informations sur le salon ICI. \n  \n 
URL:https://blog.dodynette.com/event/le-salon-des-loisirs-creatifs-et-du-fil-de-dijon-du-11-au-13-septembre/
LOCATION:Micropolis Besançon\, 3 Boulevard O\, Besançon\, 25050\, France
CATEGORIES:salon créatif
ATTACH;FMTTYPE=image/jpeg:https://blog.dodynette.com/wp-content/uploads/2020/05/369704575_619787420353633_1358739244062572372_n.jpg
END:VEVENT
END:VCALENDAR