BEGIN:VCALENDAR
VERSION:2.0
PRODID:-//Les tutos couture de Dodynette - ECPv6.2.3.1//NONSGML v1.0//EN
CALSCALE:GREGORIAN
METHOD:PUBLISH
X-WR-CALNAME:Les tutos couture de Dodynette
X-ORIGINAL-URL:https://blog.dodynette.com
X-WR-CALDESC:évènements pour Les tutos couture de Dodynette
REFRESH-INTERVAL;VALUE=DURATION:PT1H
X-Robots-Tag:noindex
X-PUBLISHED-TTL:PT1H
BEGIN:VTIMEZONE
TZID:UTC
BEGIN:STANDARD
TZOFFSETFROM:+0000
TZOFFSETTO:+0000
TZNAME:UTC
DTSTART:20220101T000000
END:STANDARD
END:VTIMEZONE
BEGIN:VEVENT
DTSTART;VALUE=DATE:20220218
DTEND;VALUE=DATE:20220221
DTSTAMP:20260423T055902
CREATED:20220214T112044Z
LAST-MODIFIED:20220214T112318Z
UID:24775-1645142400-1645401599@blog.dodynette.com
SUMMARY:Le salon des loisirs créatifs et du fil de Brives La Gaillarde du 18 au 20 février 2022
DESCRIPTION:Dodynette sera présente sur le salon de Brives La Gaillarde (dédié à la création\, pour les passionnés de « fait-main !) pour vous rencontrer et vous présenter sa nouvelle collection de kits couture. Venez la rejoindre sur le stand Dodynette pour discuter jolies cousettes ou réaliser une création couture/customisation !\nLe salon des loisirs créatifs et du fil de Brive la Gaillarde c’est : 3 jours pour faire le plein de matériel\, de conseils\, d’inspirations et découvrir les dernières nouveautés : perles\, couture\, patchwork\, encadrement\, broderie\, carterie\, modelage\, relooking de meubles\, outillage\, scrapbooking\, tricot\, cuisine créative\, décoration\, mercerie\, tissage\, fournitures pour les activités des enfants\, fabrication de cosmétiques\, livres…etc !  \nEt profiter de cet instant pour échanger avec les créateurs autour d’une passion commune…. \n  \nDodynette sera présente sur le salon pour vous rencontrer et discuter jolies cousettes ! \nRetrouvez-là sur le salon pendant les 3 jours sur le stand DODYNETTE \nAvec de nombreuses propositions créatives : ateliers couture – ateliers Cricut & ScanNCut – Démos créatives – vente de kits couture \n  \nRetrouvez toutes les informations sur le salon ICI. \n  \n 
URL:https://blog.dodynette.com/event/le-salon-des-loisirs-creatifs-et-du-fil-de-brives-la-gaillarde-du-18-au-20-fevrier-2022/
LOCATION:espace des trois provices\, Avenue John Kennedy\, Brive La Gaillarde\, 19100\, France
CATEGORIES:salon créatif
ATTACH;FMTTYPE=image/png:https://blog.dodynette.com/wp-content/uploads/2022/02/273421957_3135571636709555_4774550334030393491_n.png
END:VEVENT
END:VCALENDAR