BEGIN:VCALENDAR
VERSION:2.0
PRODID:-//Les tutos couture de Dodynette - ECPv6.2.3.1//NONSGML v1.0//EN
CALSCALE:GREGORIAN
METHOD:PUBLISH
X-ORIGINAL-URL:https://blog.dodynette.com
X-WR-CALDESC:évènements pour Les tutos couture de Dodynette
REFRESH-INTERVAL;VALUE=DURATION:PT1H
X-Robots-Tag:noindex
X-PUBLISHED-TTL:PT1H
BEGIN:VTIMEZONE
TZID:Europe/Paris
BEGIN:DAYLIGHT
TZOFFSETFROM:+0100
TZOFFSETTO:+0200
TZNAME:CEST
DTSTART:20240331T010000
END:DAYLIGHT
BEGIN:STANDARD
TZOFFSETFROM:+0200
TZOFFSETTO:+0100
TZNAME:CET
DTSTART:20241027T010000
END:STANDARD
END:VTIMEZONE
BEGIN:VEVENT
DTSTART;VALUE=DATE:20240202
DTEND;VALUE=DATE:20240205
DTSTAMP:20260421T142151
CREATED:20221218T175636Z
LAST-MODIFIED:20240102T150501Z
UID:26479-1706832000-1707091199@blog.dodynette.com
SUMMARY:Rencontre avec Dodynette sur le salon des Loisirs Créatifs Orléans
DESCRIPTION:Que vous soyez néophytes\, passionnés ou tout simplement curieux\, c’est le salon idéal pour créer\, décorer\, confectionner… mais aussi passer un agréable moment entre amis ! \nÉchanger avec les 70 exposants\, partager ses expériences\, participer tous les jours aux ateliers et démonstrations\, découvrir des astuces et développer sa créativité\, tels sont les enjeux de cette manifestation. \nRendez-vous du 2 au 4 février 2023 au Parc des Expositions d’Orléans.  \n  \nL’équipe Dodynette est heureuse de vous retrouver sur le salon ! \nAu programme : des ateliers couture (les inscriptions sont ouvertes par ICI)\, des rencontres\,  selfies et notre nouvelle collection de kits couture.
URL:https://blog.dodynette.com/event/rencontre-avec-dodynette-sur-le-salon-des-loisirs-creatifs-orleans/
LOCATION:CO’Met\, Rue du Président Robert Schuman\, Orléans\, 45100\, France
CATEGORIES:salon créatif
ATTACH;FMTTYPE=image/jpeg:https://blog.dodynette.com/wp-content/uploads/2022/11/SALONLOISIRSCREA-FB-1000x1000-1.jpg
END:VEVENT
END:VCALENDAR