BEGIN:VCALENDAR
VERSION:2.0
PRODID:-//Les tutos couture de Dodynette - ECPv6.2.3.1//NONSGML v1.0//EN
CALSCALE:GREGORIAN
METHOD:PUBLISH
X-WR-CALNAME:Les tutos couture de Dodynette
X-ORIGINAL-URL:https://blog.dodynette.com
X-WR-CALDESC:évènements pour Les tutos couture de Dodynette
REFRESH-INTERVAL;VALUE=DURATION:PT1H
X-Robots-Tag:noindex
X-PUBLISHED-TTL:PT1H
BEGIN:VTIMEZONE
TZID:UTC
BEGIN:STANDARD
TZOFFSETFROM:+0000
TZOFFSETTO:+0000
TZNAME:UTC
DTSTART:20210101T000000
END:STANDARD
END:VTIMEZONE
BEGIN:VEVENT
DTSTART;TZID=UTC:20211127T140000
DTEND;TZID=UTC:20211127T150000
DTSTAMP:20260423T121917
CREATED:20191106T064124Z
LAST-MODIFIED:20211112T175858Z
UID:17001-1638021600-1638025200@blog.dodynette.com
SUMMARY:Maker Faire Paris 2021 100% Digital
DESCRIPTION:Atelier couture en direct\, samedi 27 novembre à l’occasion de Maker Faire 2021\n  \nFABRIQUER UN SAC À PAIN À PARTIR D’UNE TAIE D’OREILLER EN DIRECT AVEC DODYNETTE \n  \n \n\nTout se recycle ou se transforme !  \nRejoignez-nous sur l’atelier couture diffusé en direct depuis la cité des sciences et de l’industrie ! \n  \nMaker Faire Paris & Dodynette s’unissent pour coudre ensemble un accessoire textile revalorisé. \nNous transformerons ensemble une taie d’oreiller en sac à pain lors d’un live couture qui se déroule samedi 27 novembre de 14h à 15h sur le site en ligne de Maker Faire Paris. \n  \nLeroy Merlin France présente l’édition Maker Faire Paris 2021 100% digitale et gratuite en direct de la Cité des Sciences et de l’Industrie. \n  \nPour participer au live et interagir avec Dodynette pendant la réalisation du projet \, il vous suffit de vous inscrire gratuitement sur paris.makerfaire.com
URL:https://blog.dodynette.com/event/maker-faire-paris/
LOCATION:en ligne\, France
CATEGORIES:salon créatif
ATTACH;FMTTYPE=image/png:https://blog.dodynette.com/wp-content/uploads/2019/11/1080x1080-photo_v4.png
END:VEVENT
END:VCALENDAR