BEGIN:VCALENDAR
VERSION:2.0
PRODID:-//Les tutos couture de Dodynette - ECPv6.2.3.1//NONSGML v1.0//EN
CALSCALE:GREGORIAN
METHOD:PUBLISH
X-WR-CALNAME:Les tutos couture de Dodynette
X-ORIGINAL-URL:https://blog.dodynette.com
X-WR-CALDESC:évènements pour Les tutos couture de Dodynette
REFRESH-INTERVAL;VALUE=DURATION:PT1H
X-Robots-Tag:noindex
X-PUBLISHED-TTL:PT1H
BEGIN:VTIMEZONE
TZID:Europe/Paris
BEGIN:DAYLIGHT
TZOFFSETFROM:+0100
TZOFFSETTO:+0200
TZNAME:CEST
DTSTART:20230326T010000
END:DAYLIGHT
BEGIN:STANDARD
TZOFFSETFROM:+0200
TZOFFSETTO:+0100
TZNAME:CET
DTSTART:20231029T010000
END:STANDARD
END:VTIMEZONE
BEGIN:VEVENT
DTSTART;TZID=Europe/Paris:20230520T110000
DTEND;TZID=Europe/Paris:20230520T120000
DTSTAMP:20260422T011439
CREATED:20230516T052946Z
LAST-MODIFIED:20230516T053033Z
UID:26614-1684580400-1684584000@blog.dodynette.com
SUMMARY:Live Facebook de présentation de la nouvelle Besace Lou
DESCRIPTION:Le moment tant attendu est arrivé : La mise à jour du patron « Besace Lou » est prête !\n\n Elle sort samedi 20 mai  sur la boutique !\nJe vous propose de nous rejoindre en live le 20 mai à 11h sur ma page Facebook « Les tutos couture de Dodynette » pour une présentation de cette nouvelle Besace Lou (qui vous réserve bien des surprises).\n\nAu programme :\n– Une nouvelle taille\n– Un pack additionnel avec pleins d’options super sympa\n– Et une mise à jour complète du patron de base avec plus de conseils et d’astuces\n\nEt le petit bonus… un live couture va être organisé pour coudre ensemble ce projet !\nLa date vous sera communiquée lors du live\, en attendant je prépare TOUT.\nJ’ai déjà hâte de vous en dire plus ! Vous serez- là ?
URL:https://blog.dodynette.com/event/live-facebook-de-presentation-de-la-nouvelle-besace-lou/
CATEGORIES:Live
ATTACH;FMTTYPE=image/jpeg:https://blog.dodynette.com/wp-content/uploads/2023/05/Green-and-Cream-Modern-hello-Spring-Facebook-Event-Cover.jpg
ORGANIZER;CN="Dodynette":MAILTO:elodie@dodynette.com
END:VEVENT
END:VCALENDAR